Workbook

Sheet Simulation
B2: SIMULATEUR DE RÉMUNÉRATION | SNAP | K2: #VALUE!
B4: Agents de droit privé • Comparaison avant / après augmentation
B6: MA SITUATION | H6: MA RÉMUNÉRATION
B8: Échelon | D8: Coefficient | H8: AVANT | K8: APRÈS
B9: D2 | D9: =VLOOKUP(B9,valeurs!A2:B81,2,FALSE) -> 576
H10: Salaire de base | K10: =D9*valeurs!J2+valeurs!J3 -> 2302.1804
B11: Quotité | D11: Ancienneté (ans)
B12: 1 | D12: 21 | H12: Prime d'ancienneté | K12: =(IF(D12=0,"0",IF(D12>25,(K10)/(100/27.5),IF(D12>19,(K10)/(100/(((D12-20)*0.5+25))),IF(D12>14,(K10)/100*(((D12-15)*1+20)),ROUND(K10*ROUND((1+1/3)*D12,2)/100,2))))))*D15 -> 0
B14: 19.2 ou 19.C | D14: Prime de vie chère | H14: Salaire brut mensuel | K14: =(K10+K12+B15)*D15+(K10*B12) -> 2302.1804
B15: 0 | D15: 0
B17: 03 TÉLÉTRAVAIL | H17: GAIN BRUT MENSUEL
B18: Jours télétravaillés | D18: Indemnité | H18: =K14-H14 -> #VALUE!
B19: 22 | D19: =B19*2.88 -> 63.36
H21: Évolution (%) | K21: =IFERROR(K14/H14-1,0) -> 0
B22: Vert d’eau : cellules à renseigner ou à modifier • Violet clair : résultats calculés automatiquement

Sheet valeurs
A1: Échelon | B1: Coefficient | C1: Quotité de travail | D1: Prime – échelon (ancienne) | E1: Prime – montant (ancien) | F1: Prime publique – niveau (Ancien) | G1: Prime publique – montant (ancien)
A2: A | B2: 400 | C2: 1 | D2: A | E2: 400 | F2: 1 | G2: 400 | I2: Valeur du point | J2: 3.3979
A3: B1 | B3: 426 | C3: 0.9 | D3: B1 | E3: 400 | F3: 2 | G3: 400 | I3: Part fixe | J3: 344.99
A4: B2 | B4: 453 | C4: 0.8 | D4: B2 | E4: 400 | F4: 3 | G4: 350 | I4: Ancienne valeur du point | J4: 3.3477
A5: C1 | B5: 478 | C5: 0.7 | D5: C1 | E5: 400 | F5: 4 | G5: 300 | I5: Ancienne part fixe | J5: 339.89
A6: C2 | B6: 504 | C6: 0.6 | D6: C2 | E6: 400
A7: C3 | B7: 528 | C7: 0.5 | D7: C3 | E7: 400
A8: D1 | B8: 551 | C8: 0.4 | D8: D1 | E8: 350
A9: D2 | B9: 576 | C9: 0.3 | D9: D2 | E9: 350
A10: D3 | B10: 599 | C10: 0.2 | D10: D3 | E10: 350
A11: D4 | B11: 623 | C11: 0.1 | D11: D4 | E11: 350
A12: E1 | B12: 648 | D12: E1 | E12: 350
A13: E2 | B13: 675 | D13: E2 | E13: 350
A14: E3 | B14: 702 | D14: E3 | E14: 350
A15: E4 | B15: 730 | D15: E4 | E15: 350
A16: F1 | B16: 759 | D16: F1 | E16: 300
A17: F2 | B17: 789 | D17: F2 | E17: 300
A18: F3 | B18: 820 | D18: F3 | E18: 300
A19: F4 | B19: 852 | D19: F4 | E19: 300
A20: G1 | B20: 885 | D20: G1 | E20: 300
A21: G2 | B21: 920 | D21: G2 | E21: 300
A22: G3 | B22: 955 | D22: G3 | E22: 300
A23: G4 | B23: 991 | D23: G4 | E23: 300
... A31: I4 | B31: 1314 | D31: I4 | E31: 300

Sheet Comparaison
B2: SIMULATEUR D'AUGMENTATION | SNAP | L2: #VALUE!
B4: Agents de droit privé • Comparaison avant / après augmentation Sélectionnez votre échelon et renseignez votre situation dans les cellules en vert d’eau. Votre rémunération est calculée automatiquement dans les cellules en violet clair.
B6: MA SITUATION | H6: MA RÉMUNÉRATION
H7: AVANT | L7: APRÈS
B8: Échelon | D8: Coefficient
B9: C2 | D9: =VLOOKUP(B9,valeurs!A2:B81,2,FALSE) -> 504 | G9: Base | H9: =(D9*valeurs!J4+valeurs!J5+B15)*B12 -> 2027.1308 | L9: =(D9*valeurs!J2+valeurs!J3+B15)*B12 -> 2057.5316
B11: Quotité | D11: Ancienneté (ans) | G11: Ancienneté | H11: =IF(D12=0,0,IF(D12>25,H9*27.5/100,IF(D12>19,H9*((D12-20)*0.5+25)/100,IF(D12>14,H9*((D12-15)+20)/100,ROUND(H9*ROUND((1+1/3)*D12,2)/100,2))))) -> 54.12 | L11: =IF(D12=0,0,IF(D12>25,L9*27.5/100,IF(D12>19,L9*((D12-20)*0.5+25)/100,IF(D12>14,L9*((D12-15)+20)/100,ROUND(L9*ROUND((1+1/3)*D12,2)/100,2))))) -> 54.94
B12: 1 | D12: 2
G13: Brut mensuel | H13: =(H9+H11)*(1+$D$15) -> 2081.2508 | L13: =(L9+L11)*(1+$D$15) -> 2112.4716
B14: 19.2 ou 19.C | D14: Prime de vie chère
D15: 0 | G15: Estimation net | H15: =ROUND(H13*78%,2) -> 1623.38 | L15: =ROUND(L13*78%,2) -> 1647.73
B17: TÉLÉTRAVAIL | H17: ÉVOLUTION | L17: GAIN BRUT MENSUEL
B18: Jours télétravaillés | D18: Indemnité | H18: =IFERROR(L15/H15-1,0) -> 0.014999569 | L18: =L13-H13 -> 31.2208
B19: 3 | D19: =B19*2.88 -> 8.64
B21: Titres restaurant | C21: Total | D21: Coût salarié | E21: Coût employeur | H21: GAIN BRUT ANNUEL | L21: GAIN NET MENSUEL
B22: 20 | C22: =B22*12.2 -> 244 | D22: =B22*4.88 -> 97.6 | E22: =B22*7.32 -> 146.4 | H22: =L18*14.58 -> 455.19926 | L22: =L15-H15 -> 24.35
B24: Estimation du salaire net : calculée sur la base d'un taux forfaitaire de cotisations salariales de 22 %, hors prélèvement à la source. Cette estimation ne tient pas compte des cotisations de mutuelle, des titres-restaurant, des indemnités de transport ni des autres éléments individuels de paie. Le montant réel peut donc différer de celui indiqué sur votre bulletin de salaire. Le gain annuel est calculé sur une base de 14,58 mois.
